BEGIN:VCALENDAR
VERSION:2.0
PRODID:-//SC_Concordia_Scharmede_1919_e_V - ECPv4.9.14//NONSGML v1.0//EN
CALSCALE:GREGORIAN
METHOD:PUBLISH
X-WR-CALNAME:SC_Concordia_Scharmede_1919_e_V
X-ORIGINAL-URL:https://wps2.concordiascharmede.de
X-WR-CALDESC:Veranstaltungen im SC_Concordia_Scharmede_1919_e_V
BEGIN:VTIMEZONE
TZID:Europe/Berlin
BEGIN:DAYLIGHT
TZOFFSETFROM:+0100
TZOFFSETTO:+0200
TZNAME:CEST
DTSTART:20250330T010000
END:DAYLIGHT
BEGIN:STANDARD
TZOFFSETFROM:+0200
TZOFFSETTO:+0100
TZNAME:CET
DTSTART:20251026T010000
END:STANDARD
END:VTIMEZONE
BEGIN:VEVENT
DTSTART;VALUE=DATE:20250920
DTEND;VALUE=DATE:20250921
DTSTAMP:20260421T235510
CREATED:20250518T082803Z
LAST-MODIFIED:20250518T082849Z
UID:5328-1758326400-1758412799@wps2.concordiascharmede.de
SUMMARY:Sommerfest des Lauf- & Walkingtreffs 2025
DESCRIPTION:Internes Sommerfest des Lauf- & Walkingtreffs\nDetails plant das Orgateam in den nächsten Wochen und gibt noch Bescheid. \n
URL:https://wps2.concordiascharmede.de/event/sommerfest-des-lauf-walkingtreffs-2025
CATEGORIES:Lauftreff intern
END:VEVENT
END:VCALENDAR