BEGIN:VCALENDAR
VERSION:2.0
PRODID:-//SC_Concordia_Scharmede_1919_e_V - ECPv4.9.14//NONSGML v1.0//EN
CALSCALE:GREGORIAN
METHOD:PUBLISH
X-WR-CALNAME:SC_Concordia_Scharmede_1919_e_V
X-ORIGINAL-URL:https://wps2.concordiascharmede.de
X-WR-CALDESC:Veranstaltungen im SC_Concordia_Scharmede_1919_e_V
BEGIN:VTIMEZONE
TZID:Europe/Berlin
BEGIN:DAYLIGHT
TZOFFSETFROM:+0100
TZOFFSETTO:+0200
TZNAME:CEST
DTSTART:20210328T010000
END:DAYLIGHT
BEGIN:STANDARD
TZOFFSETFROM:+0200
TZOFFSETTO:+0100
TZNAME:CET
DTSTART:20211031T010000
END:STANDARD
END:VTIMEZONE
BEGIN:VEVENT
DTSTART;TZID=Europe/Berlin:20210824T181500
DTEND;TZID=Europe/Berlin:20210824T181500
DTSTAMP:20260421T161050
CREATED:20210810T053614Z
LAST-MODIFIED:20210810T053657Z
UID:2598-1629828900-1629828900@wps2.concordiascharmede.de
SUMMARY:(Wieder-)Laufeinstieg für ehemalige Läuferinnen und Läufer ab 24.08.2021
DESCRIPTION:Ab dem 24.08.2021 wollen wir mit einen Wiedereinstiegskurs für ehemalige Läufer/innen starten\, die ihre Grundkondition wieder aufbauen wollen.\nMit Lauf-Geh-Intervallen im den Teilnehmer/innen angepassten Tempo werden wir die Interessierten wieder Schritt für Schritt an längere Laufzeiten heranführen. \nEine Anmeldung zum Kurs ist nicht erforderlich. Wer Interesse hat kommt am 24.08.2021 um 18.15 Uhr zum Schulhof in Scharmede zu einer Vorbesprechung.\nDie weiteren Trainingseinheiten finden dann zu den üblichen Lauf- und Walkingtreffzeiten statt. \n
URL:https://wps2.concordiascharmede.de/event/wieder-laufeinstieg-fuer-ehemalige-laeuferinnen-und-laeufer-ab-24-08-2021
LOCATION:Schulhof der Grundschule\, An der Schützenhalle 2A\, Salzkotten-Scharmede\, 33154\, Deutschland
CATEGORIES:Lauftreff
END:VEVENT
END:VCALENDAR