BEGIN:VCALENDAR
VERSION:2.0
PRODID:-//SC_Concordia_Scharmede_1919_e_V - ECPv4.9.14//NONSGML v1.0//EN
CALSCALE:GREGORIAN
METHOD:PUBLISH
X-WR-CALNAME:SC_Concordia_Scharmede_1919_e_V
X-ORIGINAL-URL:https://wps2.concordiascharmede.de
X-WR-CALDESC:Veranstaltungen im SC_Concordia_Scharmede_1919_e_V
BEGIN:VTIMEZONE
TZID:Europe/Berlin
BEGIN:DAYLIGHT
TZOFFSETFROM:+0100
TZOFFSETTO:+0200
TZNAME:CEST
DTSTART:20200329T010000
END:DAYLIGHT
BEGIN:STANDARD
TZOFFSETFROM:+0200
TZOFFSETTO:+0100
TZNAME:CET
DTSTART:20201025T010000
END:STANDARD
END:VTIMEZONE
BEGIN:VEVENT
DTSTART;TZID=Europe/Berlin:20200110T080000
DTEND;TZID=Europe/Berlin:20200110T170000
DTSTAMP:20260421T150743
CREATED:20200110T112223Z
LAST-MODIFIED:20200110T112251Z
UID:218-1578643200-1578675600@wps2.concordiascharmede.de
SUMMARY:Vorstandssitzung Test
DESCRIPTION:Es findet eine Vorstandssitzung statt \nBlaBlubber BlaBlubber BlaBlubber BlaBlubber BlaBlubber BlaBlubber BlaBlubber BlaBlubber BlaBlubber BlaBlubber BlaBlubber BlaBlubber BlaBlubber BlaBlubber BlaBlubber BlaBlubber BlaBlubber BlaBlubber BlaBlubber BlaBlubber BlaBlubber BlaBlubber BlaBlubber BlaBlubber BlaBlubber BlaBlubber BlaBlubber BlaBlubber BlaBlubber BlaBlubber BlaBlubber BlaBlubber BlaBlubber BlaBlubber BlaBlubber BlaBlubber BlaBlubber BlaBlubber BlaBlubber BlaBlubber BlaBlubber BlaBlubber BlaBlubber BlaBlubber BlaBlubber BlaBlubber BlaBlubber BlaBlubber BlaBlubber BlaBlubber BlaBlubber BlaBlubber BlaBlubber BlaBlubber BlaBlubber BlaBlubber BlaBlubber BlaBlubber BlaBlubber BlaBlubber BlaBlubber BlaBlubber BlaBlubber BlaBlubber BlaBlubber BlaBlubber BlaBlubber BlaBlubber BlaBlubber BlaBlubber BlaBlubber BlaBlubber BlaBlubber BlaBlubber BlaBlubber BlaBlubber BlaBlubber BlaBlubber BlaBlubber BlaBlubber BlaBlubber BlaBlubber BlaBlubber BlaBlubber BlaBlubber BlaBlubber BlaBlubber BlaBlubber BlaBlubber BlaBlubber BlaBlubber BlaBlubber BlaBlubber BlaBlubber BlaBlubber BlaBlubber BlaBlubber BlaBlubber BlaBlubber BlaBlubber BlaBlubber BlaBlubber BlaBlubber BlaBlubber BlaBlubber BlaBlubber BlaBlubber BlaBlubber BlaBlubber BlaBlubber BlaBlubber BlaBlubber BlaBlubber BlaBlubber BlaBlubber BlaBlubber BlaBlubber BlaBlubber BlaBlubber BlaBlubber BlaBlubber BlaBlubber BlaBlubber BlaBlubber BlaBlubber BlaBlubber BlaBlubber BlaBlubber BlaBlubber BlaBlubber BlaBlubber BlaBlubber BlaBlubber BlaBlubber BlaBlubber B \n
URL:https://wps2.concordiascharmede.de/event/vorstandssitzung-test
LOCATION:Zur alten Heide
CATEGORIES:Vorstand
END:VEVENT
END:VCALENDAR