BEGIN:VCALENDAR
VERSION:2.0
PRODID:-//SC_Concordia_Scharmede_1919_e_V - ECPv4.9.14//NONSGML v1.0//EN
CALSCALE:GREGORIAN
METHOD:PUBLISH
X-WR-CALNAME:SC_Concordia_Scharmede_1919_e_V
X-ORIGINAL-URL:https://wps2.concordiascharmede.de
X-WR-CALDESC:Veranstaltungen im SC_Concordia_Scharmede_1919_e_V
BEGIN:VTIMEZONE
TZID:Europe/Berlin
BEGIN:DAYLIGHT
TZOFFSETFROM:+0100
TZOFFSETTO:+0200
TZNAME:CEST
DTSTART:20200329T010000
END:DAYLIGHT
BEGIN:STANDARD
TZOFFSETFROM:+0200
TZOFFSETTO:+0100
TZNAME:CET
DTSTART:20201025T010000
END:STANDARD
END:VTIMEZONE
BEGIN:VEVENT
DTSTART;TZID=Europe/Berlin:20200115T080000
DTEND;TZID=Europe/Berlin:20200115T170000
DTSTAMP:20260421T162957
CREATED:20200112T142304Z
LAST-MODIFIED:20200112T142304Z
UID:247-1579075200-1579107600@wps2.concordiascharmede.de
SUMMARY:Vorstandskickerturnier
DESCRIPTION:
URL:https://wps2.concordiascharmede.de/event/vorstandskickerturnier
CATEGORIES:Vorstand
END:VEVENT
END:VCALENDAR