BEGIN:VCALENDAR
VERSION:2.0
PRODID:-//SC_Concordia_Scharmede_1919_e_V - ECPv4.9.14//NONSGML v1.0//EN
CALSCALE:GREGORIAN
METHOD:PUBLISH
X-WR-CALNAME:SC_Concordia_Scharmede_1919_e_V
X-ORIGINAL-URL:https://wps2.concordiascharmede.de
X-WR-CALDESC:Veranstaltungen im SC_Concordia_Scharmede_1919_e_V
BEGIN:VTIMEZONE
TZID:Europe/Berlin
BEGIN:DAYLIGHT
TZOFFSETFROM:+0100
TZOFFSETTO:+0200
TZNAME:CEST
DTSTART:20210328T010000
END:DAYLIGHT
BEGIN:STANDARD
TZOFFSETFROM:+0200
TZOFFSETTO:+0100
TZNAME:CET
DTSTART:20211031T010000
END:STANDARD
END:VTIMEZONE
BEGIN:VEVENT
DTSTART;TZID=Europe/Berlin:20210723T180000
DTEND;TZID=Europe/Berlin:20210723T210000
DTSTAMP:20260421T142843
CREATED:20210711T163937Z
LAST-MODIFIED:20210711T164237Z
UID:2542-1627063200-1627074000@wps2.concordiascharmede.de
SUMMARY:Verlegung Lauf- und Walkingtreff am 23.07.2021 zum Funlauf Wewer 2021
DESCRIPTION:am Freitag\, den 23.07.2021\, verlegen wir wie jedes Jahrden Lauf- und Walkingtreff zum Funlauf nach Wewer. \nWegen der immer noch bestehenden Corona-bedingten Einschränkungen wird die Veranstaltung auch dieses Jahr als Solo-Lauf bzw. -Walk durchgeführt. Die Strecken wurden vom Orgateam des Funlaufes ausgeschildert uns sind für jedermann nutzbar.\nhttp://www.lauftreff-wewer.de/images/Funlauf-2021/Streckenplan-2021-alle-Strecken.pdf \nBeim Funlauf Wewer können ganz al gusto Distanzen von 4\,5km / 6\,5km / 9\,5km / 14km auf einer schönen Laufstrecke im Wewerschen Wald gelaufen bzw. ge-walked werden. \nDie Organisation erfolgt (fast) wie jedes Jahr:\nWir treffen uns alle an der Schule zum regulären Termin um 18:00 Uhr. Einige von uns sollten mit dem Auto kommen (z.B. ich) und wir fahren in Fahrgemeinschften nach Wewer zum Sportplatz.\nIch bringe eine Liste mit\, die uns als Registrierung dient und die ich beim Lauftreff Wewer einreiche\, damit jede(r) TeilnehmerIn eine Online-Urkunde zugesandt bekommt. Weiterhin würde ich die beim Funlauf übliche freiwillige Spende einsammeln\, die ich dann in Summe dem Lauftreff Wewer im Namen der auf der Liste Genannten überweise. Wie bei jedem Funlauf wird mit den Spenden ein soziales Projektunterstützt – dieses Jahr: Jugendwohngemeinschaft „Vinzenz-Haus“ in Paderborn.  \nZur üblichen Zeit um 19:00 Uhr starten wir in einem coronaregelkonformen lockeren Feld vom Parkplatz aus auf die verschiedenen Distanzen. \nWegen der Coronabeschränkungen müsste sich jede TeilnehmerIn auch dieses Jahr um die Streckenverpflegung selbst kümmern – also ggf. etwas zu trinken für unterwegs und/oder danach mitbringen. Auch etwas Wechselkleidung bzw. etwas zum Überziehen nach dem Lauf / Walk ist angebracht und wäre zuvorkommend insbesondere denjenigen gegenüber\, die mit ihren Autos fahren\, damit die Autositze nicht vom Schweiß nass werden. \nNach dem Lauf / Walk treffen wir uns wieder am Sportplatz und stellen sicher\, dass keiner zurückbleibt. Ggf. kann man auch schon vor dem Start ausmachen\, wer mit wem zurückfährt und muss dann nicht bis zum Eintreffen der letzten LäuferInnen bzw. WalkerInnen warten. \nMit sportlichen Grüßen\nPeter Schmitt (im Namen der Lauf- und WalkingtreffleiterInnen)  \n
URL:https://wps2.concordiascharmede.de/event/verlegung-lauf-und-walkingtreff-am-23-07-2021-zum-funlauf-wewer-2021
CATEGORIES:Lauftreff intern
END:VEVENT
END:VCALENDAR