BEGIN:VCALENDAR
VERSION:2.0
PRODID:-//SC_Concordia_Scharmede_1919_e_V - ECPv4.9.14//NONSGML v1.0//EN
CALSCALE:GREGORIAN
METHOD:PUBLISH
X-WR-CALNAME:SC_Concordia_Scharmede_1919_e_V
X-ORIGINAL-URL:https://wps2.concordiascharmede.de
X-WR-CALDESC:Veranstaltungen im SC_Concordia_Scharmede_1919_e_V
BEGIN:VTIMEZONE
TZID:Europe/Berlin
BEGIN:DAYLIGHT
TZOFFSETFROM:+0100
TZOFFSETTO:+0200
TZNAME:CEST
DTSTART:20200329T010000
END:DAYLIGHT
BEGIN:STANDARD
TZOFFSETFROM:+0200
TZOFFSETTO:+0100
TZNAME:CET
DTSTART:20201025T010000
END:STANDARD
END:VTIMEZONE
BEGIN:VEVENT
DTSTART;TZID=Europe/Berlin:20200211T080000
DTEND;TZID=Europe/Berlin:20200211T170000
DTSTAMP:20260421T205340
CREATED:20200210T174547Z
LAST-MODIFIED:20200210T174547Z
UID:532-1581408000-1581440400@wps2.concordiascharmede.de
SUMMARY:Tennis Testtermin
DESCRIPTION:Wir treffen uns auf einen Kaffee am Tennisheim \n
URL:https://wps2.concordiascharmede.de/event/tennis-testtermin
LOCATION:Tennisheim\, Bahnhofstr. 60\, Salzkotten\, 33154\, Deutschland
CATEGORIES:Tennis
END:VEVENT
END:VCALENDAR