BEGIN:VCALENDAR
VERSION:2.0
PRODID:-//SC_Concordia_Scharmede_1919_e_V - ECPv4.9.14//NONSGML v1.0//EN
CALSCALE:GREGORIAN
METHOD:PUBLISH
X-WR-CALNAME:SC_Concordia_Scharmede_1919_e_V
X-ORIGINAL-URL:https://wps2.concordiascharmede.de
X-WR-CALDESC:Veranstaltungen im SC_Concordia_Scharmede_1919_e_V
BEGIN:VTIMEZONE
TZID:Europe/Berlin
BEGIN:DAYLIGHT
TZOFFSETFROM:+0100
TZOFFSETTO:+0200
TZNAME:CEST
DTSTART:20230326T010000
END:DAYLIGHT
BEGIN:STANDARD
TZOFFSETFROM:+0200
TZOFFSETTO:+0100
TZNAME:CET
DTSTART:20231029T010000
END:STANDARD
END:VTIMEZONE
BEGIN:VEVENT
DTSTART;TZID=Europe/Berlin:20230902T110000
DTEND;TZID=Europe/Berlin:20230902T170000
DTSTAMP:20260422T014316
CREATED:20230806T114242Z
LAST-MODIFIED:20230806T114242Z
UID:4222-1693652400-1693674000@wps2.concordiascharmede.de
SUMMARY:Tag der offenen Tür der Tennisabteilung
DESCRIPTION: \n
URL:https://wps2.concordiascharmede.de/event/tag-der-offenen-tuer-der-tennisabteilung
LOCATION:Tennisheim\, Bahnhofstr. 60\, Salzkotten\, 33154\, Deutschland
END:VEVENT
END:VCALENDAR