BEGIN:VCALENDAR
VERSION:2.0
PRODID:-//SC_Concordia_Scharmede_1919_e_V - ECPv4.9.14//NONSGML v1.0//EN
CALSCALE:GREGORIAN
METHOD:PUBLISH
X-WR-CALNAME:SC_Concordia_Scharmede_1919_e_V
X-ORIGINAL-URL:https://wps2.concordiascharmede.de
X-WR-CALDESC:Veranstaltungen im SC_Concordia_Scharmede_1919_e_V
BEGIN:VTIMEZONE
TZID:Europe/Berlin
BEGIN:DAYLIGHT
TZOFFSETFROM:+0100
TZOFFSETTO:+0200
TZNAME:CEST
DTSTART:20200329T010000
END:DAYLIGHT
BEGIN:STANDARD
TZOFFSETFROM:+0200
TZOFFSETTO:+0100
TZNAME:CET
DTSTART:20201025T010000
END:STANDARD
END:VTIMEZONE
BEGIN:VEVENT
DTSTART;TZID=Europe/Berlin:20200822T120000
DTEND;TZID=Europe/Berlin:20200822T120000
DTSTAMP:20260423T090442
CREATED:20200311T063251Z
LAST-MODIFIED:20200726T172048Z
UID:1184-1598097600-1598097600@wps2.concordiascharmede.de
SUMMARY:Sommerfest des Lauf- & Walkingtreffs (?)
DESCRIPTION:Dieser Termin ist für das Sommerfest reserviert. Geplant war\, das Sommerfest des Lauf- & Walkingtreffs voraussichtlich ab 12:00 Uhr durchzuführen.\nOb dieser Termin stattfinden kann\, hängt von den aktuellen Corona-Auflagen ab. Weitere Informationen folgen. \n
URL:https://wps2.concordiascharmede.de/event/sommerfest-des-lauf-walkingtreffs
CATEGORIES:Lauftreff intern
END:VEVENT
END:VCALENDAR