BEGIN:VCALENDAR
VERSION:2.0
PRODID:-//SC_Concordia_Scharmede_1919_e_V - ECPv4.9.14//NONSGML v1.0//EN
CALSCALE:GREGORIAN
METHOD:PUBLISH
X-WR-CALNAME:SC_Concordia_Scharmede_1919_e_V
X-ORIGINAL-URL:https://wps2.concordiascharmede.de
X-WR-CALDESC:Veranstaltungen im SC_Concordia_Scharmede_1919_e_V
BEGIN:VTIMEZONE
TZID:Europe/Berlin
BEGIN:DAYLIGHT
TZOFFSETFROM:+0100
TZOFFSETTO:+0200
TZNAME:CEST
DTSTART:20220327T010000
END:DAYLIGHT
BEGIN:STANDARD
TZOFFSETFROM:+0200
TZOFFSETTO:+0100
TZNAME:CET
DTSTART:20221030T010000
END:STANDARD
END:VTIMEZONE
BEGIN:VEVENT
DTSTART;TZID=Europe/Berlin:20220806T140000
DTEND;TZID=Europe/Berlin:20220806T200000
DTSTAMP:20260422T004624
CREATED:20220718T044722Z
LAST-MODIFIED:20220805T043953Z
UID:3423-1659794400-1659816000@wps2.concordiascharmede.de
SUMMARY:Sommerfest des Lauf- & Walkingtreffs am 06.08.2022
DESCRIPTION:Update 05.08.2022:\nWir treffen uns NICHT am Sportheim. Der neue Treffpunkt wurde jedem angemeldeten Teilnehmer per Mail geschickt. \nLiebe Läufer/innen und Walker/innen\, \nendlich können wir wieder ein Sommerfest gestalten. Das Orga-Team hat sich überlegt\, dass wir am Samstag\, den 06.08.2022 ausgehend vom neuen Sportheim eine Runde boßeln (ca. 5km)\, danach zum Sportheim zurückkehren und dort gemeinsam einen geselligen Spätnachmittag und Abend mit Gegrilltem sowie diversen Kaltgetränken verbringen. \nPartner und Kinder sind wie immer ebenfalls herzlich eingeladen – sowohl zum Boßeln\, als auch zum Grillabend. \nGrillfleisch\, Würstchen\, Brot/Brötchen sowie Getränke besorgt das Orga-Team. Wie immer würden wir uns aber sehr über das Beisteuern einer Leckerei Eurerseits freuen. \nZur Vermeidung von Müll würden wir Euch bitten\, eigenes Geschirr und Besteck für den Grillabend mitzubringen. Beim Treffen um 14:00 Uhr können wir dieses im Sportheim lassen\, so dass wir es nicht beim Boßeln mitschleppen müssen. \nUm dem Orga-Team die Planung zu erleichtern\, tragt Euch bitte in einer Umfrage ein\, wenn Ihr am Boßeln und/oder Grillabend teilnehmen möchtet. Bitte tragt auch jede einzelne Person ein\, die Ihr mitbringen werdet – also pro Person eine Zeile. Wenn Ihr etwas Leckeres beisteuern möchtet\, so schreibt hinter Euren Namen in Klammern\, was das sein wird. So können sich die diejenigen\, die sich danach eintragen\, etwas daran orientieren. \nMit sportlichen Grüßen\nPeter Schmitt \nWer die Umfrage nicht per E-Mail erhalten haben sollte\, wendet sich bitte an Peter Schmitt. \n
URL:https://wps2.concordiascharmede.de/event/sommerfest-des-lauf-walkingtreffs-am-06-08-2022
CATEGORIES:Lauftreff intern
END:VEVENT
END:VCALENDAR