BEGIN:VCALENDAR
VERSION:2.0
PRODID:-//SC_Concordia_Scharmede_1919_e_V - ECPv4.9.14//NONSGML v1.0//EN
CALSCALE:GREGORIAN
METHOD:PUBLISH
X-WR-CALNAME:SC_Concordia_Scharmede_1919_e_V
X-ORIGINAL-URL:https://wps2.concordiascharmede.de
X-WR-CALDESC:Veranstaltungen im SC_Concordia_Scharmede_1919_e_V
BEGIN:VTIMEZONE
TZID:Europe/Berlin
BEGIN:DAYLIGHT
TZOFFSETFROM:+0100
TZOFFSETTO:+0200
TZNAME:CEST
DTSTART:20200329T010000
END:DAYLIGHT
BEGIN:STANDARD
TZOFFSETFROM:+0200
TZOFFSETTO:+0100
TZNAME:CET
DTSTART:20201025T010000
END:STANDARD
END:VTIMEZONE
BEGIN:VEVENT
DTSTART;TZID=Europe/Berlin:20200606T000000
DTEND;TZID=Europe/Berlin:20200607T235900
DTSTAMP:20260423T102744
CREATED:20200424T183147Z
LAST-MODIFIED:20200424T183916Z
UID:1444-1591401600-1591574340@wps2.concordiascharmede.de
SUMMARY:#runsalzkotten4u - die Alternative zum Salzkotten Marathon
DESCRIPTION:Weitere Informationen siehe hier\nKlingenthal Salzkotten Marathon – Absage und Alternativprogramm \noder direkt unter https://salzkotten-marathon.de/ \n
URL:https://wps2.concordiascharmede.de/event/runsalzkotten4u-die-alternative-zum-salzkotten-marathon
CATEGORIES:Lauftreff
END:VEVENT
END:VCALENDAR