BEGIN:VCALENDAR
VERSION:2.0
PRODID:-//SC_Concordia_Scharmede_1919_e_V - ECPv4.9.14//NONSGML v1.0//EN
CALSCALE:GREGORIAN
METHOD:PUBLISH
X-WR-CALNAME:SC_Concordia_Scharmede_1919_e_V
X-ORIGINAL-URL:https://wps2.concordiascharmede.de
X-WR-CALDESC:Veranstaltungen im SC_Concordia_Scharmede_1919_e_V
BEGIN:VTIMEZONE
TZID:Europe/Berlin
BEGIN:DAYLIGHT
TZOFFSETFROM:+0100
TZOFFSETTO:+0200
TZNAME:CEST
DTSTART:20200329T010000
END:DAYLIGHT
BEGIN:STANDARD
TZOFFSETFROM:+0200
TZOFFSETTO:+0100
TZNAME:CET
DTSTART:20201025T010000
END:STANDARD
END:VTIMEZONE
BEGIN:VEVENT
DTSTART;TZID=Europe/Berlin:20200606T143000
DTEND;TZID=Europe/Berlin:20200606T173000
DTSTAMP:20260421T143440
CREATED:20200530T092736Z
LAST-MODIFIED:20200530T093518Z
UID:1615-1591453800-1591464600@wps2.concordiascharmede.de
SUMMARY:#runsalzkotten4u - Außerordentlicher Lauf- & Walkingtreff
DESCRIPTION:Liebe Mitglieder des Lauf- und Walkingtreffs\, \nwir möchten Euch alle herzlich einladen\, am Samstag\, den 06.06.2020 um 14:30 Uhr von der Grundschule aus gemeinsam auf einen Lauf oder Walk im Rahmen des #runsalzkotten4u zu gehen. \nBitte meldet Euch möglichst vorher unter https://salzkotten-marathon.de/runsalzkotten4u-run/ an.\nNeben der Aufnahme in die Starter- und Ergebnisliste und einer Startnummer zum Selbstausdrucken\, gibt es auch einen digitalen Starterbeutel und nach Ergebnismeldung eine Urkunde zum Download. Die Anmeldung ist zwar kostenlos\, aber eine freiwillige Spende für die Sportvereine in Salzkotten ist sehr willkommen. \nWir bieten an\, begleitet von jeweils einer/einem LauftreffleiterIn eine Runde über 5\, 10 oder 21\,1km zu laufen. Weiterhin würden wir uns sehr freuen\, wenn auch die WalkerInnen gemeinsam mit uns starten würden\, auch wenn wir hier leider keine Begleitung anbieten können.\nAuch sie können die entsprechenden Runden (Beschreibung bringen wir mit) walken und ihre Ergebnisse im Ergebnis-Portal melden und dann eine Urkunde erhalten. \nSololäufe / Solowalks – so wie ursprünglich vom Salzkotten-Marathon-Orgateam vorgesehen – sind natürlich auch möglich\, z.B. wenn jemand sein eigenes Tempo und/oder zu einer anderen Uhrzeit am 06. oder 07. Juni laufen / (speed)walken möchte.\nDas gibt übrigens auch die einmalige Gelegenheit\, sich zusätzlich an verschiedenen Distanzen zu versuchen\, da ja das Startfenster über zwei Tage reicht. \nNatürlich müssen wir auch bei diesem außerordentlichen Lauf- und Walkingtrefftermin – wie bei unseren regulären Terminen auch – strikt die aktuell gültigen Regelungen der Coronaschutzverordnung für Breitensport einhalten – aber darin sind wir ja schon geübt. \nFür diejenigen\, die seit der Wiederaufnahme des Lauf- und Walkingtreffs noch nicht wieder dabei waren und mit dabei sein möchten: \n\nmindestens 1\,5m Abstand und kein Körperkontakt zwischen den SportlerInnen (also sowohl beim Treff an der Schule\, als auch beim Laufen bzw. Walken und danach)\nUmkleide- und Waschräume bleiben geschlossen\n\nWeiterhin müssen wir darauf aufmerksam machen\, dass wir niemanden an Aktivitäten in den Gruppen teilnehmen lassen dürfen\, der entsprechende Krankheitssymptome hat oder dem bekannt ist\, dass er in den letzten 14 Tagen vor dem Lauf/Walk direkten (ungeschützten) Kontakt zu COVID-19-Erkrankten hatte.\nLeider können wir wegen der Beschränkungen durch die Coronaschutzverordnung auch keine Teilnehmerversorgung mit Getränken vor\, während und nach dem Lauf/Walk anbieten\, weshalb bitte alle ihre ggf. erforderliche Versorgung selbst organisieren sollten. \nWir freuen uns sehr\, möglichst viele von Euch am 06. Juni ab etwa 14:15 Uhr an der Grundschule zu treffen und gemeinsam mit Euch um 14:30 Uhr zu starten. \nEure Lauf- und WalkingtreffleiterInnen \n
URL:https://wps2.concordiascharmede.de/event/runsalzkotten4u-ausserordentlicher-lauf-und-walkingtreff
LOCATION:Schulhof der Grundschule\, An der Schützenhalle 2A\, Salzkotten-Scharmede\, 33154\, Deutschland
CATEGORIES:Lauftreff
END:VEVENT
END:VCALENDAR