BEGIN:VCALENDAR
VERSION:2.0
PRODID:-//SC_Concordia_Scharmede_1919_e_V - ECPv4.9.14//NONSGML v1.0//EN
CALSCALE:GREGORIAN
METHOD:PUBLISH
X-WR-CALNAME:SC_Concordia_Scharmede_1919_e_V
X-ORIGINAL-URL:https://wps2.concordiascharmede.de
X-WR-CALDESC:Veranstaltungen im SC_Concordia_Scharmede_1919_e_V
BEGIN:VTIMEZONE
TZID:Europe/Berlin
BEGIN:DAYLIGHT
TZOFFSETFROM:+0100
TZOFFSETTO:+0200
TZNAME:CEST
DTSTART:20210328T010000
END:DAYLIGHT
BEGIN:STANDARD
TZOFFSETFROM:+0200
TZOFFSETTO:+0100
TZNAME:CET
DTSTART:20211031T010000
END:STANDARD
END:VTIMEZONE
BEGIN:VEVENT
DTSTART;TZID=Europe/Berlin:20210606T090000
DTEND;TZID=Europe/Berlin:20210606T130000
DTSTAMP:20260421T130836
CREATED:20210524T064247Z
LAST-MODIFIED:20210524T064359Z
UID:2434-1622970000-1622984400@wps2.concordiascharmede.de
SUMMARY:#runsalzkotten by Salzkotten-Marathon
DESCRIPTION:#runsalzkotten ist dieses Jahr unser Ersatz für den Klingenthal Salzkotten Marathon. \nVorgesehen ist aktuell die Variante Gelb\, der Präsenzlauf mit besonderem Fokus auf Abstand und Hygieneregeln. \nAlle Informationen zum #runsalzkotten findet Ihr in der Ausschreibung auf der Webseite. \n
URL:https://wps2.concordiascharmede.de/event/runsalzkotten
CATEGORIES:Lauftreff intern
END:VEVENT
END:VCALENDAR