BEGIN:VCALENDAR
VERSION:2.0
PRODID:-//SC_Concordia_Scharmede_1919_e_V - ECPv4.9.14//NONSGML v1.0//EN
CALSCALE:GREGORIAN
METHOD:PUBLISH
X-WR-CALNAME:SC_Concordia_Scharmede_1919_e_V
X-ORIGINAL-URL:https://wps2.concordiascharmede.de
X-WR-CALDESC:Veranstaltungen im SC_Concordia_Scharmede_1919_e_V
BEGIN:VTIMEZONE
TZID:Europe/Berlin
BEGIN:DAYLIGHT
TZOFFSETFROM:+0100
TZOFFSETTO:+0200
TZNAME:CEST
DTSTART:20220327T010000
END:DAYLIGHT
BEGIN:STANDARD
TZOFFSETFROM:+0200
TZOFFSETTO:+0100
TZNAME:CET
DTSTART:20221030T010000
END:STANDARD
END:VTIMEZONE
BEGIN:VEVENT
DTSTART;TZID=Europe/Berlin:20220603T180000
DTEND;TZID=Europe/Berlin:20220605T200000
DTSTAMP:20260421T201744
CREATED:20220519T161407Z
LAST-MODIFIED:20220521T162959Z
UID:3334-1654279200-1654459200@wps2.concordiascharmede.de
SUMMARY:Pfingstsportfest 2022
DESCRIPTION: \n
URL:https://wps2.concordiascharmede.de/event/pfingstsportfest-2022
LOCATION:neues Sportheim\, Stangenweg 33\, Salzkotten-Scharmede\, 33154
CATEGORIES:Fussball
END:VEVENT
END:VCALENDAR