BEGIN:VCALENDAR
VERSION:2.0
PRODID:-//SC_Concordia_Scharmede_1919_e_V - ECPv4.9.14//NONSGML v1.0//EN
CALSCALE:GREGORIAN
METHOD:PUBLISH
X-WR-CALNAME:SC_Concordia_Scharmede_1919_e_V
X-ORIGINAL-URL:https://wps2.concordiascharmede.de
X-WR-CALDESC:Veranstaltungen im SC_Concordia_Scharmede_1919_e_V
BEGIN:VTIMEZONE
TZID:Europe/Berlin
BEGIN:DAYLIGHT
TZOFFSETFROM:+0100
TZOFFSETTO:+0200
TZNAME:CEST
DTSTART:20220327T010000
END:DAYLIGHT
BEGIN:STANDARD
TZOFFSETFROM:+0200
TZOFFSETTO:+0100
TZNAME:CET
DTSTART:20221030T010000
END:STANDARD
END:VTIMEZONE
BEGIN:VEVENT
DTSTART;TZID=Europe/Berlin:20220429T200000
DTEND;TZID=Europe/Berlin:20220429T220000
DTSTAMP:20260421T202011
CREATED:20220223T184537Z
LAST-MODIFIED:20220223T184537Z
UID:3164-1651262400-1651269600@wps2.concordiascharmede.de
SUMMARY:Mitgliederversammlung
DESCRIPTION:Sofern es die dann aktuellen Corona-Regelungen zutreffen findet die Mitgliederversammlung des SC Concordia Scharmede 1919 e.V. am 29.04.2022 um 20:00 Uhr im  Gasthof „Zur Alten Heide“ in Scharmede statt. Detaillierte Infos werden noch auf der Vereinshomepage zeitnah veröffentlicht. \n
URL:https://wps2.concordiascharmede.de/event/mitgliederversammlung
LOCATION:Gasthof „Zur alten Heide“\, Scharmeder Str. 60\, Salzkotten-Scharmede\, 33154\, Deutschland
CATEGORIES:Vorstand
END:VEVENT
END:VCALENDAR