BEGIN:VCALENDAR
VERSION:2.0
PRODID:-//SC_Concordia_Scharmede_1919_e_V - ECPv4.9.14//NONSGML v1.0//EN
CALSCALE:GREGORIAN
METHOD:PUBLISH
X-WR-CALNAME:SC_Concordia_Scharmede_1919_e_V
X-ORIGINAL-URL:https://wps2.concordiascharmede.de
X-WR-CALDESC:Veranstaltungen im SC_Concordia_Scharmede_1919_e_V
BEGIN:VTIMEZONE
TZID:Europe/Berlin
BEGIN:DAYLIGHT
TZOFFSETFROM:+0100
TZOFFSETTO:+0200
TZNAME:CEST
DTSTART:20220327T010000
END:DAYLIGHT
BEGIN:STANDARD
TZOFFSETFROM:+0200
TZOFFSETTO:+0100
TZNAME:CET
DTSTART:20221030T010000
END:STANDARD
END:VTIMEZONE
BEGIN:VEVENT
DTSTART;TZID=Europe/Berlin:20220722T180000
DTEND;TZID=Europe/Berlin:20220722T210000
DTSTAMP:20260421T231751
CREATED:20220718T044440Z
LAST-MODIFIED:20220718T044446Z
UID:3420-1658512800-1658523600@wps2.concordiascharmede.de
SUMMARY:Lauf- & Walkingtreff am 22.07.2022 beim Funlauf Wewer
DESCRIPTION:Hallo liebe Läufinnen und Läufer\, \nam Freitag\, 22.07.2022 verlegen wir den Lauf- und Walkingtreff nach Wewer zum endlich wieder als Präsenzveranstaltung stattfindenden Funlauf und werden dort beim und nach dem Laufen und Walken unseren Spaß haben UND noch etwas für einen guten Zweck tun (siehe auch unten angehängtes Einladungsschreiben) \nBeim Funlauf Wewer (https://www.lauftreff-wewer.de/) können ganz al gusto Distanzen von 5km / 7km / 10km / 16km auf einer schönen Laufstrecke im Wewerschen Wald gelaufen oder ge-walked werden. \nDie Veranstaltung ist KEIN Wettkampf und ist durchaus auch etwas für Anfänger. Man muss sich nicht mit anderen messen (kann aber ;-).\nAmbitionierte Läufer können den Lauf übrigens gut als Testlauf in Vorbereitung auf einen 10km Lauf oder Halbmarathon nutzen\, z.B. die Läufe an der Aabachtalsperre im August. \nDas Startgeld zum Funlauf ist eine freiwillige Spende in beliebiger Höhe für einen sozialen Zweck (dieses Mal: eine Spende zugunsten von zwei Projekten für Kinder in Afrika).\nFür Verpflegung auf der Strecke und im Ziel ist bestens gesorgt.\nAuch Kinder sind gern gesehene Läufer für eine Laufstrecke von 400m für Kindergartenkinder und 1200m für Schulkinder – bringt Eure Kiddies also ruhig mit! \nHier der Link auf den Flyer mit ausführlichen Informationen:\nhttps://www.lauftreff-wewer.de/images/Funlauf-2022/Funlauf_Flyer_final_Webversion_2022_mit_Hyperlink_Hochstift-Cup.pdf \nSeid keine Frösche und kommt ganz normal in bzw. mit den üblichen Sportsachen und Wechselsachen + Duschzeug zum Lauf- und Walkingtreff am Freitag\, 22.07.2022 18:00 Uhr auf den Schulhof. Bringt auch ein wenig Geld mit für die Spende sowie für Kaffee\, Kuchen\, Kaltgetränke\, Würstchen etc nach dem Lauf 😉\nWir bilden dann um 18:00 Fahrgemeinschaften für An- und Rückfahrt\, damit nicht jeder einzeln fährt / fahren muss. \nMit sportlichen Grüßen\nPeter Schmitt \n
URL:https://wps2.concordiascharmede.de/event/lauf-walkingtreff-am-22-07-2022-beim-funlauf-wewer
CATEGORIES:Lauftreff intern
END:VEVENT
END:VCALENDAR