BEGIN:VCALENDAR
VERSION:2.0
PRODID:-//SC_Concordia_Scharmede_1919_e_V - ECPv4.9.14//NONSGML v1.0//EN
CALSCALE:GREGORIAN
METHOD:PUBLISH
X-WR-CALNAME:SC_Concordia_Scharmede_1919_e_V
X-ORIGINAL-URL:https://wps2.concordiascharmede.de
X-WR-CALDESC:Veranstaltungen im SC_Concordia_Scharmede_1919_e_V
BEGIN:VTIMEZONE
TZID:Europe/Berlin
BEGIN:DAYLIGHT
TZOFFSETFROM:+0100
TZOFFSETTO:+0200
TZNAME:CEST
DTSTART:20220327T010000
END:DAYLIGHT
BEGIN:STANDARD
TZOFFSETFROM:+0200
TZOFFSETTO:+0100
TZNAME:CET
DTSTART:20221030T010000
END:STANDARD
END:VTIMEZONE
BEGIN:VEVENT
DTSTART;TZID=Europe/Berlin:20220604T170000
DTEND;TZID=Europe/Berlin:20220604T180000
DTSTAMP:20260421T231601
CREATED:20220528T162354Z
LAST-MODIFIED:20220528T162354Z
UID:3355-1654362000-1654365600@wps2.concordiascharmede.de
SUMMARY:Concordenlauf im Rahmen des Pfingstsportfestes des SC Concordia Scharmede
DESCRIPTION:– Worum geht’s?\nEs sollen innerhalb einer Stunde so viele Runden wie möglich gelaufen oder gewalkt werden. Für je drei Runden gibt es eine Wertmarke für ein Getränk oder eine Süßigkeit. \n– Wer kann mitlaufen?\nWir freuen uns über jede Teilnehmerin / jeden Teilnehmer.\nEs kann jedermann mitlaufen: Kinder\, Erwachsene\, Senioren (kleine Kinder sollten begleitet werden) \n– Wie lang ist die Strecke?\nEine Runde ist 1 km lang. Start und Ziel / Rundenzählung erfolgt auf dem Parkplatz am neuen Sportheim\n(selbst wenn man langsam geht\, schafft man in einer Stunde genug Runden für wenigstens eine Wertmarke) \n– Wann startet der Lauf?\nStart wird am Samstag um 17:00 Uhr sein. Man darf aber auch später starten und man darf den Lauf/Walk auch unterbrechen und wiedereinsteigen. \n– Erfolgt eine Zeitnahme?\nDie Veranstaltung ist ein Funlauf und kein Wettkampf. Außer der Begrenzung auf eine Stunde erfolgt keine Zeitnahme.\nAber natürlich darf man auch so engagiert wie möglich laufen\, um so viele Runden wie möglich in einer Stunde zu laufen. \n– Entstehen Kosten?\nDie Teilnahme ist kostenlos. \n– Muss man sich anmelden?\nEine Anmeldung ist nicht erforderlich. Möchte man mitlaufen / mitwalken\, sollte man sich am Samstag etwa 16:45 Uhr in entsprechender Kleidung am Parkplatz beim neuen Sportplatz einfinden\, auch wenn man später erst einsteigen möchte. Der Moderator gibt dann noch einmal wichtige Informationen bekannt. \nEin letzter wichtiger Hinweis: Die Teilnahme erfolgt auf eigenes Risiko. Da der Lauf auf auf nicht abgesperrten Straßen stattfindet\, gelten die Regeln des öffentlichen Straßenverkehrs. Die Laufstrecke wird allerdings über sehr wenig befahrene und verkehrsberuhigte Straßen geführt und auch die Streckenposten werden ein wachsames Auge haben.“ \n
URL:https://wps2.concordiascharmede.de/event/concordenlauf-im-rahmen-des-pfingstsportfestes-des-sc-concordia-scharmede
LOCATION:neues Sportheim\, Stangenweg 33\, Salzkotten-Scharmede\, 33154
CATEGORIES:Lauftreff,Lauftreff intern
END:VEVENT
END:VCALENDAR