BEGIN:VCALENDAR
VERSION:2.0
PRODID:-//SC_Concordia_Scharmede_1919_e_V - ECPv4.9.14//NONSGML v1.0//EN
CALSCALE:GREGORIAN
METHOD:PUBLISH
X-WR-CALNAME:SC_Concordia_Scharmede_1919_e_V
X-ORIGINAL-URL:https://wps2.concordiascharmede.de
X-WR-CALDESC:Veranstaltungen im SC_Concordia_Scharmede_1919_e_V
BEGIN:VTIMEZONE
TZID:Europe/Berlin
BEGIN:DAYLIGHT
TZOFFSETFROM:+0100
TZOFFSETTO:+0200
TZNAME:CEST
DTSTART:20200329T010000
END:DAYLIGHT
BEGIN:STANDARD
TZOFFSETFROM:+0200
TZOFFSETTO:+0100
TZNAME:CET
DTSTART:20201025T010000
END:STANDARD
END:VTIMEZONE
BEGIN:VEVENT
DTSTART;VALUE=DATE:20200530
DTEND;VALUE=DATE:20200531
DTSTAMP:20260421T113723
CREATED:20200312T061546Z
LAST-MODIFIED:20200417T043451Z
UID:1222-1590796800-1590883199@wps2.concordiascharmede.de
SUMMARY:Concorden-Lauf
DESCRIPTION:Concorden-Lauf im Rahmen des Pfingstsportfests des SC Concordia Scharmede. Weitere Informationen folgen. \n
URL:https://wps2.concordiascharmede.de/event/concorden-lauf
LOCATION:neues Sportheim\, Stangenweg 33\, Salzkotten-Scharmede\, 33154
END:VEVENT
END:VCALENDAR