BEGIN:VCALENDAR
VERSION:2.0
PRODID:-//SC_Concordia_Scharmede_1919_e_V - ECPv4.9.14//NONSGML v1.0//EN
CALSCALE:GREGORIAN
METHOD:PUBLISH
X-WR-CALNAME:SC_Concordia_Scharmede_1919_e_V
X-ORIGINAL-URL:https://wps2.concordiascharmede.de
X-WR-CALDESC:Veranstaltungen im SC_Concordia_Scharmede_1919_e_V
BEGIN:VTIMEZONE
TZID:Europe/Berlin
BEGIN:DAYLIGHT
TZOFFSETFROM:+0100
TZOFFSETTO:+0200
TZNAME:CEST
DTSTART:20210328T010000
END:DAYLIGHT
BEGIN:STANDARD
TZOFFSETFROM:+0200
TZOFFSETTO:+0100
TZNAME:CET
DTSTART:20211031T010000
END:STANDARD
END:VTIMEZONE
BEGIN:VEVENT
DTSTART;TZID=Europe/Berlin:20210911T140000
DTEND;TZID=Europe/Berlin:20210911T140000
DTSTAMP:20260421T172735
CREATED:20210814T050750Z
LAST-MODIFIED:20210814T051042Z
UID:2608-1631368800-1631368800@wps2.concordiascharmede.de
SUMMARY:Abnahme Lauf- und Walkingabzeichen nur für Vereinsmitglieder
DESCRIPTION:Liebe Mitglieder des Lauf- und Walkingtreffs (LWT)\, \nhiermit möchten wir LeiterInnen des LWT zunächst einmal Euch ankündigen\, dass wir planen\, die Abnahme der DLV Lauf- und des Walkingabzeichens am 11.09.2021 für Mitglieder des SC Concordia Scharmede anzubieten. \nBeide Abzeichen können\, wie bei den bisherigen Veranstaltungen auch\, in den Stufen 30\, 60\, 90 und 120 Minuten erworben werden. \nDie Veranstaltung hat keinen Wettkampfcharakter. Es muss lediglich in den jeweiligen Stufen ohne Pause in beliebigem Tempo gelaufen bzw. gewalked werden. Der Start für 120 Minuten Lauf-/Walkingdauer erfolgt um 14 Uhr\, für 90 Minuten um 14.30 Uhr\, für 60 Minuten 15 Uhr und für 30 Minuten um 15.30 Uhr am neuen Sportplatz. \nDas Angebot ist offen für alle interessierte Mitglieder des SC Concordia Scharmede – weitersagen an andere SCC Mitglieder ist erwünscht. \nDie Anmeldung erfolgt vor Ort. Der Organisationsbeitrag beträgt 3\,00€. Für Kinder unter 14 Jahren entfällt dieser Beitrag\, sie laufen/walken also kostenfrei mit. \nAlle Lauf-Runden werden in zwei von den Lauftreffleitern begleiteten Gruppen gelaufen. Die eine Gruppe läuft mit einem Tempo von etwa 6 Min/km\, die andere mit etwa 6:45-7:15 Min/km. Das Tempo orientiert sich in jedem Falle an den langsamsten Läufer/innen. \nFür das Walkingabzeichen wir es nur eine Gruppe geben. Auch hier wird sich an der/dem langsamsten WalkerIn orientiert. \nWir haben auch geplant\, unmittelbar nach der Veranstaltung (also ab 16:00 Uhr) für die TeilnehmerInnen Würstchen zu grillen und dazu Brötchen zu reichen. \nAllerdings steht dieser Abschluss der Veranstaltung noch nicht ganz fest. Ende August wird die Stadt ggf. noch einmal die Regeln für derartige Veranstaltungen anpassen und wir müssen schauen\, ob und unter welchen Auflagen wir das durchführen können. \nDer Abnahme der Lauf- und Walkingabzeichen an sich steht aber aus heutiger Sicht nichts entgegen. Auch andere Sportvereine bieten dies z.Z. unter dem Mottol einer Leistungsüberprüfung an. \nBzgl. der wahrscheinlich einfach umzusetzenden Anti-Coronamaßnahmen für die Abnahme der Abzeichen werden wir noch informieren. Seitens der Stadt gibt es hier keine Auflagen\, wir werden aber trotzdem die Kontaktrückverfolgung sicherstellen (schon gegeben durch die Anmeldung\, die wir ggf. um ein\, zwei Daten erweitern) sowie einige Abstands- und Hygieneregeln aufstellen. Ob wir auch die 3-G-Regel befolgen müssen (geimpft-genesen-getestet) entscheidet sich voraussichtlich Ende August. Z.Z. ist das nicht der Fall. \nMit sportlichen Grüßen \nPeter Schmitt \n(im Namen der LWT-LeiterInnen) \n  \nWeitere Information: \nEine Umfrage zur aktuellen Interessenslage wurde per Mail verteilt\, diese wird nicht im Internet veröffentlicht. Bei Interesse wendet euch bitte an Peter Schmitt. \n
URL:https://wps2.concordiascharmede.de/event/abnahme-lauf-und-walkingabzeichen-am-11-09-2021-ab-1400-uhr-am-sportplatz
LOCATION:neues Sportheim\, Stangenweg 33\, Salzkotten-Scharmede\, 33154
CATEGORIES:Lauftreff
END:VEVENT
END:VCALENDAR