BEGIN:VCALENDAR
VERSION:2.0
PRODID:-//SC_Concordia_Scharmede_1919_e_V - ECPv4.9.14//NONSGML v1.0//EN
CALSCALE:GREGORIAN
METHOD:PUBLISH
X-WR-CALNAME:SC_Concordia_Scharmede_1919_e_V
X-ORIGINAL-URL:https://wps2.concordiascharmede.de
X-WR-CALDESC:Veranstaltungen im SC_Concordia_Scharmede_1919_e_V
BEGIN:VTIMEZONE
TZID:Europe/Berlin
BEGIN:DAYLIGHT
TZOFFSETFROM:+0100
TZOFFSETTO:+0200
TZNAME:CEST
DTSTART:20250330T010000
END:DAYLIGHT
BEGIN:STANDARD
TZOFFSETFROM:+0200
TZOFFSETTO:+0100
TZNAME:CET
DTSTART:20251026T010000
END:STANDARD
END:VTIMEZONE
BEGIN:VEVENT
DTSTART;TZID=Europe/Berlin:20250706T130000
DTEND;TZID=Europe/Berlin:20250706T163000
DTSTAMP:20260421T205635
CREATED:20250609T161509Z
LAST-MODIFIED:20250704T054858Z
UID:5375-1751806800-1751819400@wps2.concordiascharmede.de
SUMMARY:Abnahme der Lauf- und Walkingabzeichen am 06.07.2025 ab 13:00 Uhr am Sportheim des SCC Scharmede
DESCRIPTION:Liebe Sportfreunde\, \ndie Lauf- und Walkingtreffs des SC Concordia Scharmede und des VfL Thüle bieten am Sonntag\, den 06.07.2025 ab 13 Uhr den Erwerb der DLV-Lauf- und des Walkingabzeichen an. \nDas Angebot ist offen für alle Interessierten\, nicht nur für Mitglieder der genannten Vereine.\nFreunde\, Bekannte und Familienmitglieder sind herzlich eingeladen. \nDie Abzeichen können für die Läufer-/innen in den Stufen 30\, 60\, 90 und 120 Minuten und für die Walker-/innen in 30\, 60 und 120 Minuten erworben werden. \nDie Veranstaltung hat keinen Wettkampfcharakter. Es muss lediglich in den jeweiligen Stufen ohne Pause in beliebigem Tempo gelaufen bzw. gewalkt werden. \nDer Start für 120 Minuten Lauf- bzw. Walkingdauer erfolgt um 13 Uhr\,\nfür 90 Minuten (nur Läufer!) um 13:30 Uhr\,\nfür 60 Minuten um 14 Uhr und\nfür 30 Minuten um 14:30 Uhr\nam Sportheim (Stangenweg) in Scharmede. \nDie Anmeldung erfolgt vor Ort kurz vor dem Start der Stufe. Der Organisationsbeitrag beträgt 3\,00€ für Mitglieder der Sportvereine SC Concordia Scharmede und VfL Thüle sowie 5\,00€ für Nichtmitglieder.\nFür Kinder unter 14 Jahren entfällt dieser Beitrag\, sie laufen also kostenfrei mit. \nAlle Lauf-Runden werden in zwei von Lauftreffleitern bzw. Helfern begleiteten Gruppen gelaufen. Die eine Gruppe läuft mit einem Tempo von etwa 6 Min/km\, die andere mit etwa 6:45-7:15 Min/km. Das Tempo orientiert sich in jedem Falle an den langsamsten Läufer/innen. \nFür das Walkingabzeichen wir es nur eine Gruppe geben. Auch hier wird sich an der/dem langsamsten WalkerIn orientiert. \nFür Getränke während der Veranstaltung sowie für Duschmöglichkeiten danach ist gesorgt. \nNach dem Eintreffen aller Teilnehmer/innen um etwa 15:00 Uhr möchten wir dann im „Ziel“ ein Gemeinschaftsfoto machen.\nAb 15:15 Uhr findet ein geselliger Abschluss mit Kaffee\, Kuchen und kühlen Getränken für alle Teilnehmer/innen statt\, bei dem die Urkunden feierlich übergeben werden. \nUm Einweggeschirr weitestgehend zu vermeiden\, möchten wir alle Teilnehmer/innen bitten\, sich für den geselligen Teil der Veranstaltung Tasse\, Teller und Besteck mitzubringen. \nWir freuen uns über eine rege Teilnahme! \n
URL:https://wps2.concordiascharmede.de/event/abnahme-der-lauf-und-walkingabzeichen-am-06-07-2025-ab-1300-uhr-am-sportheim-des-scc-scharmede
LOCATION:neues Sportheim\, Stangenweg 33\, Salzkotten-Scharmede\, 33154
CATEGORIES:Lauftreff
END:VEVENT
END:VCALENDAR