BEGIN:VCALENDAR
VERSION:2.0
PRODID:-//SC_Concordia_Scharmede_1919_e_V - ECPv4.9.14//NONSGML v1.0//EN
CALSCALE:GREGORIAN
METHOD:PUBLISH
X-WR-CALNAME:SC_Concordia_Scharmede_1919_e_V
X-ORIGINAL-URL:https://wps2.concordiascharmede.de
X-WR-CALDESC:Veranstaltungen im SC_Concordia_Scharmede_1919_e_V
BEGIN:VTIMEZONE
TZID:Europe/Berlin
BEGIN:DAYLIGHT
TZOFFSETFROM:+0100
TZOFFSETTO:+0200
TZNAME:CEST
DTSTART:20240331T010000
END:DAYLIGHT
BEGIN:STANDARD
TZOFFSETFROM:+0200
TZOFFSETTO:+0100
TZNAME:CET
DTSTART:20241027T010000
END:STANDARD
END:VTIMEZONE
BEGIN:VEVENT
DTSTART;TZID=Europe/Berlin:20240703T170000
DTEND;TZID=Europe/Berlin:20240703T200000
DTSTAMP:20260421T223549
CREATED:20240622T051244Z
LAST-MODIFIED:20240622T051244Z
UID:4944-1720026000-1720036800@wps2.concordiascharmede.de
SUMMARY:Abnahme der Lauf- und Walkingabzeichen am 03.07.2024 ab 17:00 Uhr
DESCRIPTION:Liebe Läuferinnen und Läufer\, liebe Walkerinnen und Walker\, \ndie Lauf- und Walkingtreffs des VfL 1919 Thüle und des SC Concordia Scharmede bieten am Mittwoch\, den 03.07.2024 den Erwerb der DLV-Lauf- und Walkingabzeichen an.\nDiese Abzeichen können für die Läufer-/innen in den Stufen 15\, 30\, 60\, 90 und 120 Minuten und für die Walker-/innen in den Stufen 30\, 60 und 120 Minuten erworben werden.\nDie Veranstaltung hat keinen Wettkampfcharakter. Es muss lediglich in den jeweiligen Stufen ohne Pause in beliebigem Tempo gelaufen bzw. gewalkt werden.\nDer Start für 120 Minuten Dauer erfolgt um 17 Uhr\, für 90 Minuten (nur Läufer) um 17.30 Uhr\, für 60 Minuten um 18 Uhr und für 30 sowie 15 Minuten um 18.30 Uhr jeweils am Sportheim des VfL 1919 Thüle am Stangenweg in Thüle.\nBitte findet Euch dort etwa 10 Minuten vor dem Start Eurer gewünschten Stufe zur Registrierung ein. \nAlle Strecken werden in jeweils einer von Treffleitern begleiteten Gruppe gelaufen bzw. gewalkt. Das Tempo orientiert sich in jedem Falle an den langsamsten Läufer/innen bzw. Walker/innen.\nFür Getränke während der Veranstaltung sowie für Umkleidemöglichkeiten und eingeschränkte Duschmöglichkeiten danach ist gesorgt.\nNach dem Eintreffen aller Teilnehmer/innen gegen 19 Uhr möchten wir dann im „Ziel“ ein Gemeinschaftsfoto machen. Bei einem abschließenden geselligen Beisammensein mit Kaltgetränken erfolgt die feierliche Übergabe der Urkunden.\nDas Angebot ist offen für alle Interessierte – Ihr könnt also im Freundes-/Bekannten-/Kollegenkreis gern Werbung machen. Die Anmeldung erfolgt vor Ort. Der Organisationsbeitrag beträgt 3€ für Mitglieder der beteiligten Sportvereine sowie 5€ für Nichtmitglieder. Für Kinder unter 14 Jahren sowie die Teilnehmer/innen des Laufeinsteigerkurses entfällt dieser Beitrag. \nWir freuen uns über eine rege Teilnahme! \nMit sportlichen Grüßen\nim Namen der Lauf- & Walkingtreffeleiter\nPeter Schmitt \n
URL:https://wps2.concordiascharmede.de/event/abnahme-der-lauf-und-walkingabzeichen-am-03-07-2024-ab-1700-uhr
LOCATION:Sportheim VfL 1919 Thüle\, Stangenweg 48\, Salzkotten-Thüle\, 33154\, Deutschland
CATEGORIES:Lauftreff
END:VEVENT
END:VCALENDAR