BEGIN:VCALENDAR
VERSION:2.0
PRODID:-//SC_Concordia_Scharmede_1919_e_V - ECPv4.9.14//NONSGML v1.0//EN
CALSCALE:GREGORIAN
METHOD:PUBLISH
X-WR-CALNAME:SC_Concordia_Scharmede_1919_e_V
X-ORIGINAL-URL:https://wps2.concordiascharmede.de
X-WR-CALDESC:Veranstaltungen im SC_Concordia_Scharmede_1919_e_V
BEGIN:VTIMEZONE
TZID:Europe/Berlin
BEGIN:DAYLIGHT
TZOFFSETFROM:+0100
TZOFFSETTO:+0200
TZNAME:CEST
DTSTART:20230326T010000
END:DAYLIGHT
BEGIN:STANDARD
TZOFFSETFROM:+0200
TZOFFSETTO:+0100
TZNAME:CET
DTSTART:20231029T010000
END:STANDARD
END:VTIMEZONE
BEGIN:VEVENT
DTSTART;TZID=Europe/Berlin:20230607T170000
DTEND;TZID=Europe/Berlin:20230607T190000
DTSTAMP:20260422T044035
CREATED:20230523T052604Z
LAST-MODIFIED:20230601T205701Z
UID:4054-1686157200-1686164400@wps2.concordiascharmede.de
SUMMARY:Lauf- und Walking-Abzeichen am Tag des Laufens
DESCRIPTION:Liebe Läuferinnen und Läufer\, liebe Walkerinnen und Walker\, \nder Lauf- und Walkingtreff des SC Concordia Scharmede bietet am Mittwoch\, den 07.06.2023 ab 17 Uhr den Erwerb des DLV-Lauf- und des Walkingabzeichens an.\nDer 07.06.2023 ist der „Tag des Laufens“ und der Mittwoch vor Fronleichnam – man kann also gut am nächsten Tag regenerieren. \nDas Angebot ist offen für alle Interessierte\, nicht nur für Mitglieder des Sportvereins SC Concordia Scharmede. \nDiese Auszeichnung kann für die Läufer-/innen in den Stufen 30\, 60\, 90 und 120 Minuten und für die Walker-/innen in 30\, 60 und 120 Minuten erworben werden. Die Veranstaltung hat keinen Wettkampfcharakter. Es muss lediglich in den jeweiligen Stufen ohne Pause in beliebigem Tempo gelaufen bzw. gewalkt werden.\nDer Start für 120 Minuten Lauf- bzw. Walkingdauer erfolgt um 17 Uhr\, für 90 Minuten (nur Läufer!) um 17:30 Uhr\, für 60 Minuten um 18 Uhr und für 30 Minuten um 18:30 Uhr am Sportheim (Stangenweg) in Scharmede. \nDie Anmeldung erfolgt vor Ort. Der Organisationsbeitrag beträgt 3\,00€ für Mitglieder des Sportvereins SC Concordia Scharmede und 5\,00€ für Nichtmitglieder. Für Kinder unter 14 Jahren entfällt dieser Beitrag\, sie laufen also kostenfrei mit. \nAlle Lauf-Runden werden in zwei von Lauftreffleitern bzw. Helfern begleiteten Gruppen gelaufen. Die eine Gruppe läuft mit einem Tempo von etwa 6 Min/km\, die andere mit etwa 6:45-7:15 Min/km. Das Tempo orientiert sich in jedem Falle an den langsamsten Läufer/innen. \nFür das Walkingabzeichen wir es nur eine Gruppe geben. Auch hier wird sich an der/dem langsamsten WalkerIn orientiert. \nFür Getränke während der Veranstaltung sowie für Duschmöglichkeiten danach ist gesorgt. \nNach dem Eintreffen aller Teilnehmer/innen gegen 19:00 Uhr möchten wir dann im „Ziel“ ein Gemeinschaftsfoto machen.\nAb 19:00 Uhr würden wir wieder bei einem geselligen Beisammensein mit kühlen Getränken die Urkunden übergeben. \nWir freuen uns über eine rege Teilnahme! \n  \n„Auf Initiative von German Road Races e.V. und dem Deutschen Leichtathletik-Verband die Aktion „Run for the trees“ statt\, bei der man sich\nkostenlos registrieren kann und eine Startnummer mit einer Gewinnoption erhält\, mit der man eine beliebige Strecke laufen oder walken kann. Für eine freiwillige Spende von 7€ (oder mehr) hilft man zusätzlich bei der Aufforstung eines (oder mehrerer) Bäume. \nNähere Informationen und die Anmeldung findet Ihr auf https://www.tagdeslaufens.de. \nDamit kann man das Ablegen des Lauf- oder Walkingabzeichens gleich mit einer Aktion für einen guten Zweck verbinden und hat sogar noch die Chance auf einen Gewinn.“ \n  \n
URL:https://wps2.concordiascharmede.de/event/4054
LOCATION:neues Sportheim\, Stangenweg 33\, Salzkotten-Scharmede\, 33154
CATEGORIES:Lauftreff
END:VEVENT
END:VCALENDAR