BEGIN:VCALENDAR
VERSION:2.0
PRODID:-//SC_Concordia_Scharmede_1919_e_V - ECPv4.9.14//NONSGML v1.0//EN
CALSCALE:GREGORIAN
METHOD:PUBLISH
X-WR-CALNAME:SC_Concordia_Scharmede_1919_e_V
X-ORIGINAL-URL:https://wps2.concordiascharmede.de
X-WR-CALDESC:Veranstaltungen im SC_Concordia_Scharmede_1919_e_V
BEGIN:VTIMEZONE
TZID:Europe/Berlin
BEGIN:DAYLIGHT
TZOFFSETFROM:+0100
TZOFFSETTO:+0200
TZNAME:CEST
DTSTART:20200329T010000
END:DAYLIGHT
BEGIN:STANDARD
TZOFFSETFROM:+0200
TZOFFSETTO:+0100
TZNAME:CET
DTSTART:20201025T010000
END:STANDARD
END:VTIMEZONE
BEGIN:VEVENT
DTSTART;VALUE=DATE:20200421
DTEND;VALUE=DATE:20200422
DTSTAMP:20260421T100402
CREATED:20200311T062843Z
LAST-MODIFIED:20200417T043243Z
UID:1178-1587427200-1587513599@wps2.concordiascharmede.de
SUMMARY:Anfängerkurs Nordic Walking - abgesagt
DESCRIPTION:Der Anfängerkurs Nordic Walking ab 21.04.2020 kann wegen Corona nicht stattfinden. Ein neuer Termin wird rechtzeitig bekanntgegeben. \n
URL:https://wps2.concordiascharmede.de/event/1178
CATEGORIES:Lauftreff intern
END:VEVENT
END:VCALENDAR